BEGIN:VCALENDAR
VERSION:2.0
PRODID:-//Discovery Science &amp; Technology Centre, Bendigo - ECPv5.0.0//NONSGML v1.0//EN
CALSCALE:GREGORIAN
METHOD:PUBLISH
X-WR-CALNAME:Discovery Science &amp; Technology Centre, Bendigo
X-ORIGINAL-URL:https://discovery.asn.au
X-WR-CALDESC:Events for Discovery Science &amp; Technology Centre, Bendigo
BEGIN:VTIMEZONE
TZID:Europe/Paris
BEGIN:DAYLIGHT
TZOFFSETFROM:+0100
TZOFFSETTO:+0200
TZNAME:CEST
DTSTART:20190331T010000
END:DAYLIGHT
BEGIN:STANDARD
TZOFFSETFROM:+0200
TZOFFSETTO:+0100
TZNAME:CET
DTSTART:20191027T010000
END:STANDARD
BEGIN:DAYLIGHT
TZOFFSETFROM:+0100
TZOFFSETTO:+0200
TZNAME:CEST
DTSTART:20200329T010000
END:DAYLIGHT
BEGIN:STANDARD
TZOFFSETFROM:+0200
TZOFFSETTO:+0100
TZNAME:CET
DTSTART:20201025T010000
END:STANDARD
END:VTIMEZONE
BEGIN:VEVENT
DTSTART;VALUE=DATE:20191015
DTEND;VALUE=DATE:20200410
DTSTAMP:20200227T033059
CREATED:20191013T213451Z
LAST-MODIFIED:20200128T034038Z
UID:3948-1571097600-1586476799@discovery.asn.au
SUMMARY:Code Breakers: Women in Games
DESCRIPTION:
URL:https://discovery.asn.au/event/code-breakers/
CATEGORIES:Special event
ATTACH;FMTTYPE=image/png:https://discovery.asn.au/wp/wp-content/uploads/2019/10/Meet-the-Games-BG.png
END:VEVENT
BEGIN:VEVENT
DTSTART;VALUE=DATE:20200225
DTEND;VALUE=DATE:20200410
DTSTAMP:20200227T033059
CREATED:20200225T023154Z
LAST-MODIFIED:20200225T023154Z
UID:4575-1582588800-1586476799@discovery.asn.au
SUMMARY:Codebreakers - Special Primary School Program
DESCRIPTION:This collaboration between the Discovery Science and Technology Centre and Bendigo Tech School gives Year 5 and 6 students a full-day gaming and coding experience and is the perfect way to celebrate International Women’s Day. \n  \nStudents visit the Codebreakers: Women in Games exhibition at Discovery where they will explore emerging and established female game makers in an interactive and immersive exhibition. Students can get hands-on with an array of playable games – from indie through to commercial hits and new releases –all made by Australian and New Zealand women. \n\nThey then take part in a coding workshop where they will work in teams to respond to coding challenges using Sphero Robots. In the afternoon\, students will transfer to Bendigo Tech School for a Digital Escape Room Challenge. In this fun\, collaborative learning activity\, teams of students race against a timer to solve a series of STEM puzzles. They then design and code their own maths or science escape room challenge to try to outwit each other. \n
URL:https://discovery.asn.au/event/codebreakers-special-primary-school-program/
LOCATION:Discovery Science & Technology Centre\, 7 Railway Place\, Bendigo\, Vic\, 3550\, Australia
ATTACH;FMTTYPE=image/jpeg:https://discovery.asn.au/wp/wp-content/uploads/2019/08/PB210092.jpg
ORGANIZER;CN="Discovery%20Centre":MAILTO:bookings@discovery.asn.au
END:VEVENT
END:VCALENDAR